BEGIN:VCALENDAR
VERSION:2.0
PRODID:-//Feuerwehr Günselsdorf - ECPv6.15.20//NONSGML v1.0//EN
CALSCALE:GREGORIAN
METHOD:PUBLISH
X-ORIGINAL-URL:https://www.ffguenselsdorf.at
X-WR-CALDESC:Veranstaltungen für Feuerwehr Günselsdorf
REFRESH-INTERVAL;VALUE=DURATION:PT1H
X-Robots-Tag:noindex
X-PUBLISHED-TTL:PT1H
BEGIN:VTIMEZONE
TZID:Europe/Paris
BEGIN:DAYLIGHT
TZOFFSETFROM:+0100
TZOFFSETTO:+0200
TZNAME:CEST
DTSTART:20230326T010000
END:DAYLIGHT
BEGIN:STANDARD
TZOFFSETFROM:+0200
TZOFFSETTO:+0100
TZNAME:CET
DTSTART:20231029T010000
END:STANDARD
BEGIN:DAYLIGHT
TZOFFSETFROM:+0100
TZOFFSETTO:+0200
TZNAME:CEST
DTSTART:20240331T010000
END:DAYLIGHT
BEGIN:STANDARD
TZOFFSETFROM:+0200
TZOFFSETTO:+0100
TZNAME:CET
DTSTART:20241027T010000
END:STANDARD
BEGIN:DAYLIGHT
TZOFFSETFROM:+0100
TZOFFSETTO:+0200
TZNAME:CEST
DTSTART:20250330T010000
END:DAYLIGHT
BEGIN:STANDARD
TZOFFSETFROM:+0200
TZOFFSETTO:+0100
TZNAME:CET
DTSTART:20251026T010000
END:STANDARD
END:VTIMEZONE
BEGIN:VEVENT
DTSTART;TZID=Europe/Paris:20240127T200000
DTEND;TZID=Europe/Paris:20240127T233000
DTSTAMP:20260421T111814
CREATED:20231106T155721Z
LAST-MODIFIED:20240118T095740Z
UID:20615-1706385600-1706398200@www.ffguenselsdorf.at
SUMMARY:Feuerwehrball 2024
DESCRIPTION:Wir freuen uns Sie wieder zu unserem Feuerwehrball einladen zu dürfen
URL:https://www.ffguenselsdorf.at/event/feuerwehrball-2024/
LOCATION:Kulturzentrum Günselsdorf\, Dr. Theodor Körner Straße 2\, Günselsdorf\, Niederösterreich\, 2525\, Österreich
ATTACH;FMTTYPE=image/jpeg:https://www.ffguenselsdorf.at/wp/wp-content/uploads/2024/01/06317764-74a5-4dcf-8668-402318c4bda0-e1705571754677.jpg
END:VEVENT
END:VCALENDAR