BEGIN:VCALENDAR
VERSION:2.0
PRODID:-//Feuerwehr Günselsdorf - ECPv6.15.20//NONSGML v1.0//EN
CALSCALE:GREGORIAN
METHOD:PUBLISH
X-ORIGINAL-URL:https://www.ffguenselsdorf.at
X-WR-CALDESC:Veranstaltungen für Feuerwehr Günselsdorf
REFRESH-INTERVAL;VALUE=DURATION:PT1H
X-Robots-Tag:noindex
X-PUBLISHED-TTL:PT1H
BEGIN:VTIMEZONE
TZID:Europe/Paris
BEGIN:DAYLIGHT
TZOFFSETFROM:+0100
TZOFFSETTO:+0200
TZNAME:CEST
DTSTART:20220327T010000
END:DAYLIGHT
BEGIN:STANDARD
TZOFFSETFROM:+0200
TZOFFSETTO:+0100
TZNAME:CET
DTSTART:20221030T010000
END:STANDARD
BEGIN:DAYLIGHT
TZOFFSETFROM:+0100
TZOFFSETTO:+0200
TZNAME:CEST
DTSTART:20230326T010000
END:DAYLIGHT
BEGIN:STANDARD
TZOFFSETFROM:+0200
TZOFFSETTO:+0100
TZNAME:CET
DTSTART:20231029T010000
END:STANDARD
BEGIN:DAYLIGHT
TZOFFSETFROM:+0100
TZOFFSETTO:+0200
TZNAME:CEST
DTSTART:20240331T010000
END:DAYLIGHT
BEGIN:STANDARD
TZOFFSETFROM:+0200
TZOFFSETTO:+0100
TZNAME:CET
DTSTART:20241027T010000
END:STANDARD
END:VTIMEZONE
BEGIN:VEVENT
DTSTART;TZID=Europe/Paris:20230917T090000
DTEND;TZID=Europe/Paris:20230917T150000
DTSTAMP:20260425T154132
CREATED:20230829T173929Z
LAST-MODIFIED:20230919T090309Z
UID:19944-1694941200-1694962800@www.ffguenselsdorf.at
SUMMARY:Einladung Feuerwehrfest 150 Jahre Feuerwehr Günselsdorf
DESCRIPTION:
URL:https://www.ffguenselsdorf.at/event/feuerwehrfest-150-jahre-feuerwehr-guenselsdorf/
LOCATION:Freiwillige Feuerwehr Günselsdorf\, Kirchenplatz 2\, Günselsdorf\, 2525\, Österreich
ATTACH;FMTTYPE=image/jpeg:https://www.ffguenselsdorf.at/wp/wp-content/uploads/2023/08/40501_ff_guenselsdorf_plakat_150er_fest-scaled.jpg
END:VEVENT
END:VCALENDAR