BEGIN:VCALENDAR
VERSION:2.0
PRODID:-//Feuerwehr Günselsdorf - ECPv6.15.20//NONSGML v1.0//EN
CALSCALE:GREGORIAN
METHOD:PUBLISH
X-WR-CALNAME:Feuerwehr Günselsdorf
X-ORIGINAL-URL:https://www.ffguenselsdorf.at
X-WR-CALDESC:Veranstaltungen für Feuerwehr Günselsdorf
REFRESH-INTERVAL;VALUE=DURATION:PT1H
X-Robots-Tag:noindex
X-PUBLISHED-TTL:PT1H
BEGIN:VTIMEZONE
TZID:UTC
BEGIN:STANDARD
TZOFFSETFROM:+0000
TZOFFSETTO:+0000
TZNAME:UTC
DTSTART:20230101T000000
END:STANDARD
END:VTIMEZONE
BEGIN:VEVENT
DTSTART;TZID=UTC:20240531T183000
DTEND;TZID=UTC:20240531T220000
DTSTAMP:20260421T042942
CREATED:20240307T154516Z
LAST-MODIFIED:20240523T180028Z
UID:21192-1717180200-1717192800@www.ffguenselsdorf.at
SUMMARY:Maibaumumschneiden 2024
DESCRIPTION:
URL:https://www.ffguenselsdorf.at/event/maibaumumschneiden-2024/
LOCATION:Freiwillige Feuerwehr Günselsdorf\, Kirchenplatz 2\, Günselsdorf\, 2525\, Österreich
ATTACH;FMTTYPE=image/png:https://www.ffguenselsdorf.at/wp/wp-content/uploads/2022/12/kein-artikelbild-ohneText.png
END:VEVENT
END:VCALENDAR