BEGIN:VCALENDAR
VERSION:2.0
PRODID:-//Feuerwehr Günselsdorf - ECPv6.15.20//NONSGML v1.0//EN
CALSCALE:GREGORIAN
METHOD:PUBLISH
X-WR-CALNAME:Feuerwehr Günselsdorf
X-ORIGINAL-URL:https://www.ffguenselsdorf.at
X-WR-CALDESC:Veranstaltungen für Feuerwehr Günselsdorf
REFRESH-INTERVAL;VALUE=DURATION:PT1H
X-Robots-Tag:noindex
X-PUBLISHED-TTL:PT1H
BEGIN:VTIMEZONE
TZID:UTC
BEGIN:STANDARD
TZOFFSETFROM:+0000
TZOFFSETTO:+0000
TZNAME:UTC
DTSTART:20220101T000000
END:STANDARD
END:VTIMEZONE
BEGIN:VEVENT
DTSTART;TZID=UTC:20231111T090000
DTEND;TZID=UTC:20231111T130000
DTSTAMP:20260425T140747
CREATED:20231106T155609Z
LAST-MODIFIED:20231106T155609Z
UID:20613-1699693200-1699707600@www.ffguenselsdorf.at
SUMMARY:Feuerlöscherüberprüfung 2023
DESCRIPTION:Feuerlöscherüberprüfung im Feuerwehrhaus Günselsdorf \nUhrzeit: 09:00 bis 13:00 Uhr \nAnmeldung für Abholung bitte schriftlich unter: feuerloescher@ffguenselsdorf.at\n(Abholungen sind ab Freitag am Abend möglich)
URL:https://www.ffguenselsdorf.at/event/feuerloescherueberpruefung-2023/
LOCATION:Freiwillige Feuerwehr Günselsdorf\, Kirchenplatz 2\, Günselsdorf\, 2525\, Österreich
ATTACH;FMTTYPE=image/png:https://www.ffguenselsdorf.at/wp/wp-content/uploads/2022/12/kein-artikelbild-ohneText.png
END:VEVENT
END:VCALENDAR